Package: SGSeq Version: 1.38.0 Command: rm -rf SGSeq.buildbin-libdir && mkdir SGSeq.buildbin-libdir && /Users/biocbuild/BBS/utils/build-universal.sh SGSeq_1.38.0.tar.gz /Library/Frameworks/R.framework/Resources/bin/R SGSeq.buildbin-libdir StartedAt: 2024-10-15 20:17:34 -0400 (Tue, 15 Oct 2024) EndedAt: 2024-10-15 20:18:31 -0400 (Tue, 15 Oct 2024) EllapsedTime: 57.6 seconds RetCode: 0 Status: OK PackageFile: SGSeq_1.38.0.tgz PackageFileSize: 1.777 MiB