Package: SGCP Version: 1.4.4 Command: chmod a+r SGCP -R && E:\biocbuild\bbs-3.19-bioc\R\bin\R.exe CMD build --keep-empty-dirs --no-resave-data SGCP StartedAt: 2024-10-16 21:55:53 -0400 (Wed, 16 Oct 2024) EndedAt: 2024-10-16 21:58:52 -0400 (Wed, 16 Oct 2024) EllapsedTime: 178.9 seconds RetCode: 0 Status: OK PackageFile: SGCP_1.4.4.tar.gz PackageFileSize: 1.298 MiB