Package: SGCP Version: 1.4.4 Command: rm -rf SGCP.buildbin-libdir && mkdir SGCP.buildbin-libdir && E:\biocbuild\bbs-3.19-bioc\R\bin\R.exe CMD INSTALL --build --library=SGCP.buildbin-libdir SGCP_1.4.4.tar.gz StartedAt: 2024-10-17 08:38:13 -0400 (Thu, 17 Oct 2024) EndedAt: 2024-10-17 08:39:44 -0400 (Thu, 17 Oct 2024) EllapsedTime: 91.1 seconds RetCode: 0 Status: OK PackageFile: SGCP_1.4.4.zip PackageFileSize: 2.633 MiB