Package: SGCP Version: 1.4.0 Command: chmod a+r SGCP -R && F:\biocbuild\bbs-3.19-bioc\R\bin\R.exe CMD build --keep-empty-dirs --no-resave-data SGCP StartedAt: 2024-06-26 21:55:49 -0400 (Wed, 26 Jun 2024) EndedAt: 2024-06-26 21:57:26 -0400 (Wed, 26 Jun 2024) EllapsedTime: 97.3 seconds RetCode: 1 Status: ERROR PackageFile: None PackageFileSize: NA