Package: SGCP Version: 1.4.4 Command: /home/biocbuild/bbs-3.19-bioc/R/bin/R CMD check --install=check:SGCP.install-out.txt --library=/home/biocbuild/bbs-3.19-bioc/R/site-library --timings SGCP_1.4.4.tar.gz StartedAt: 2024-10-17 05:06:05 -0400 (Thu, 17 Oct 2024) EndedAt: 2024-10-17 05:11:59 -0400 (Thu, 17 Oct 2024) EllapsedTime: 353.9 seconds RetCode: 0 Status: OK CheckDir: SGCP.Rcheck Warnings: 0