Package: SGCP Version: 1.4.4 Command: /home/biocbuild/bbs-3.19-bioc/R/bin/R CMD build --keep-empty-dirs --no-resave-data SGCP StartedAt: 2024-10-16 20:49:29 -0400 (Wed, 16 Oct 2024) EndedAt: 2024-10-16 20:51:28 -0400 (Wed, 16 Oct 2024) EllapsedTime: 119.2 seconds RetCode: 0 Status: OK PackageFile: SGCP_1.4.4.tar.gz PackageFileSize: 2.413 MiB