Package: SGCP Version: 1.4.4 Command: /Library/Frameworks/R.framework/Resources/bin/R CMD build --keep-empty-dirs --no-resave-data SGCP StartedAt: 2024-10-16 23:17:48 -0400 (Wed, 16 Oct 2024) EndedAt: 2024-10-16 23:23:18 -0400 (Wed, 16 Oct 2024) EllapsedTime: 329.6 seconds RetCode: 0 Status: OK PackageFile: SGCP_1.4.4.tar.gz PackageFileSize: 2.688 MiB