Package: SGCP Version: 1.4.4 Command: rm -rf SGCP.buildbin-libdir && mkdir SGCP.buildbin-libdir && /Users/biocbuild/BBS/utils/build-universal.sh SGCP_1.4.4.tar.gz /Library/Frameworks/R.framework/Resources/bin/R SGCP.buildbin-libdir StartedAt: 2024-10-15 20:17:32 -0400 (Tue, 15 Oct 2024) EndedAt: 2024-10-15 20:18:47 -0400 (Tue, 15 Oct 2024) EllapsedTime: 75.6 seconds RetCode: 0 Status: OK PackageFile: SGCP_1.4.4.tgz PackageFileSize: 4.102 MiB