Package: SGCP Version: 1.4.4 Maintainer: Niloofar AghaieAbiane MaintainerEmail: niloofar.abiane at gmail.com git_url: https://git.bioconductor.org/packages/SGCP git_branch: RELEASE_3_19 git_last_commit: 01d2332 git_last_commit_date: 2024-08-19 19:32:23 -0400 (Mon, 19 Aug 2024)