Package: SEtools Version: 1.18.0 Command: chmod a+r SEtools -R && F:\biocbuild\bbs-3.19-bioc\R\bin\R.exe CMD build --keep-empty-dirs --no-resave-data SEtools StartedAt: 2024-06-26 21:55:42 -0400 (Wed, 26 Jun 2024) EndedAt: 2024-06-26 21:56:54 -0400 (Wed, 26 Jun 2024) EllapsedTime: 71.8 seconds RetCode: 0 Status: OK PackageFile: SEtools_1.18.0.tar.gz PackageFileSize: 509.2 KiB