Package: SEtools Version: 1.18.0 Command: /Library/Frameworks/R.framework/Resources/bin/R CMD build --keep-empty-dirs --no-resave-data SEtools StartedAt: 2024-10-16 23:17:29 -0400 (Wed, 16 Oct 2024) EndedAt: 2024-10-16 23:20:02 -0400 (Wed, 16 Oct 2024) EllapsedTime: 153.3 seconds RetCode: 0 Status: OK PackageFile: SEtools_1.18.0.tar.gz PackageFileSize: 539.5 KiB