Package: SELEX Version: 1.36.0 Command: rm -rf SELEX.buildbin-libdir && mkdir SELEX.buildbin-libdir && E:\biocbuild\bbs-3.19-bioc\R\bin\R.exe CMD INSTALL --build --library=SELEX.buildbin-libdir SELEX_1.36.0.tar.gz StartedAt: 2024-10-17 08:37:01 -0400 (Thu, 17 Oct 2024) EndedAt: 2024-10-17 08:37:20 -0400 (Thu, 17 Oct 2024) EllapsedTime: 19.5 seconds RetCode: 0 Status: OK PackageFile: SELEX_1.36.0.zip PackageFileSize: 2.765 MiB