Package: SELEX Version: 1.36.0 Command: F:\biocbuild\bbs-3.19-bioc\R\bin\R.exe CMD INSTALL SELEX StartedAt: 2024-06-26 15:50:32 -0400 (Wed, 26 Jun 2024) EndedAt: 2024-06-26 15:50:51 -0400 (Wed, 26 Jun 2024) EllapsedTime: 18.4 seconds RetCode: 0 Status: OK