Package: SELEX Version: 1.36.0 Command: chmod a+r SELEX -R && F:\biocbuild\bbs-3.19-bioc\R\bin\R.exe CMD build --keep-empty-dirs --no-resave-data SELEX StartedAt: 2024-06-26 21:52:13 -0400 (Wed, 26 Jun 2024) EndedAt: 2024-06-26 21:52:49 -0400 (Wed, 26 Jun 2024) EllapsedTime: 36.1 seconds RetCode: 0 Status: OK PackageFile: SELEX_1.36.0.tar.gz PackageFileSize: 4.109 MiB