Package: SELEX Version: 1.36.0 Command: /Library/Frameworks/R.framework/Resources/bin/R CMD build --keep-empty-dirs --no-resave-data SELEX StartedAt: 2024-06-10 04:37:21 -0400 (Mon, 10 Jun 2024) EndedAt: 2024-06-10 04:38:06 -0400 (Mon, 10 Jun 2024) EllapsedTime: 44.8 seconds RetCode: 0 Status: OK PackageFile: SELEX_1.36.0.tar.gz PackageFileSize: 4.034 MiB