Package: SELEX Version: 1.36.0 Command: rm -rf SELEX.buildbin-libdir && mkdir SELEX.buildbin-libdir && /Users/biocbuild/BBS/utils/build-universal.sh SELEX_1.36.0.tar.gz /Library/Frameworks/R.framework/Resources/bin/R SELEX.buildbin-libdir StartedAt: 2024-06-11 13:12:13 -0400 (Tue, 11 Jun 2024) EndedAt: 2024-06-11 13:12:38 -0400 (Tue, 11 Jun 2024) EllapsedTime: 24.4 seconds RetCode: 0 Status: OK PackageFile: SELEX_1.36.0.tgz PackageFileSize: 2.861 MiB