Package: SELEX Version: 1.36.0 Command: /Library/Frameworks/R.framework/Resources/bin/R CMD build --keep-empty-dirs --no-resave-data SELEX StartedAt: 2024-10-17 09:02:35 -0400 (Thu, 17 Oct 2024) EndedAt: 2024-10-17 09:03:10 -0400 (Thu, 17 Oct 2024) EllapsedTime: 35.8 seconds RetCode: 0 Status: OK PackageFile: SELEX_1.36.0.tar.gz PackageFileSize: 4.034 MiB