Package: SDAMS Version: 1.24.0 Command: rm -rf SDAMS.buildbin-libdir && mkdir SDAMS.buildbin-libdir && E:\biocbuild\bbs-3.19-bioc\R\bin\R.exe CMD INSTALL --build --library=SDAMS.buildbin-libdir SDAMS_1.24.0.tar.gz StartedAt: 2024-10-17 08:36:50 -0400 (Thu, 17 Oct 2024) EndedAt: 2024-10-17 08:37:22 -0400 (Thu, 17 Oct 2024) EllapsedTime: 31.7 seconds RetCode: 0 Status: OK PackageFile: SDAMS_1.24.0.zip PackageFileSize: 989.8 KiB