Package: SDAMS Version: 1.24.0 Command: rm -rf SDAMS.buildbin-libdir && mkdir SDAMS.buildbin-libdir && /Users/biocbuild/BBS/utils/build-universal.sh SDAMS_1.24.0.tar.gz /Library/Frameworks/R.framework/Resources/bin/R SDAMS.buildbin-libdir StartedAt: 2024-10-17 17:09:50 -0400 (Thu, 17 Oct 2024) EndedAt: 2024-10-17 17:11:02 -0400 (Thu, 17 Oct 2024) EllapsedTime: 71.7 seconds RetCode: 0 Status: OK PackageFile: SDAMS_1.24.0.tgz PackageFileSize: 1.104 MiB