Package: SDAMS Version: 1.24.0 Command: rm -rf SDAMS.buildbin-libdir && mkdir SDAMS.buildbin-libdir && /Users/biocbuild/BBS/utils/build-universal.sh SDAMS_1.24.0.tar.gz /Library/Frameworks/R.framework/Resources/bin/R SDAMS.buildbin-libdir StartedAt: 2024-10-15 20:15:20 -0400 (Tue, 15 Oct 2024) EndedAt: 2024-10-15 20:16:00 -0400 (Tue, 15 Oct 2024) EllapsedTime: 39.8 seconds RetCode: 0 Status: OK PackageFile: SDAMS_1.24.0.tgz PackageFileSize: 1.104 MiB