Package: SCnorm Version: 1.26.0 Command: /Library/Frameworks/R.framework/Resources/bin/R CMD INSTALL SCnorm StartedAt: 2024-10-16 16:17:13 -0400 (Wed, 16 Oct 2024) EndedAt: 2024-10-16 16:18:13 -0400 (Wed, 16 Oct 2024) EllapsedTime: 59.2 seconds RetCode: 0 Status: OK