Package: SCnorm Version: 1.26.0 Command: rm -rf SCnorm.buildbin-libdir && mkdir SCnorm.buildbin-libdir && /Users/biocbuild/BBS/utils/build-universal.sh SCnorm_1.26.0.tar.gz /Library/Frameworks/R.framework/Resources/bin/R SCnorm.buildbin-libdir StartedAt: 2024-05-27 02:00:00 -0400 (Mon, 27 May 2024) EndedAt: 2024-05-27 02:00:41 -0400 (Mon, 27 May 2024) EllapsedTime: 41.2 seconds RetCode: 0 Status: OK PackageFile: SCnorm_1.26.0.tgz PackageFileSize: 3.045 MiB