Package: SCnorm Version: 1.26.0 Maintainer: Rhonda Bacher MaintainerEmail: rbacher at ufl.edu git_url: https://git.bioconductor.org/packages/SCnorm git_branch: RELEASE_3_19 git_last_commit: 2dff202 git_last_commit_date: 2024-04-30 10:59:25 -0400 (Tue, 30 Apr 2024)