Package: SCOPE Version: 1.16.0 Maintainer: Rujin Wang MaintainerEmail: rujin at email.unc.edu git_url: https://git.bioconductor.org/packages/SCOPE git_branch: RELEASE_3_19 git_last_commit: fff64d2 git_last_commit_date: 2024-04-30 11:20:57 -0400 (Tue, 30 Apr 2024)