Package: SCFA Version: 1.14.0 Command: /home/biocbuild/bbs-3.19-bioc/R/bin/R CMD INSTALL SCFA StartedAt: 2024-10-16 16:28:07 -0400 (Wed, 16 Oct 2024) EndedAt: 2024-10-16 16:28:17 -0400 (Wed, 16 Oct 2024) EllapsedTime: 9.2 seconds RetCode: 0 Status: OK