Package: SCFA Version: 1.14.0 Command: /Library/Frameworks/R.framework/Resources/bin/R CMD INSTALL SCFA StartedAt: 2024-10-16 16:15:56 -0400 (Wed, 16 Oct 2024) EndedAt: 2024-10-16 16:16:18 -0400 (Wed, 16 Oct 2024) EllapsedTime: 22.1 seconds RetCode: 0 Status: OK