Package: SCFA Version: 1.14.0 Command: /Library/Frameworks/R.framework/Resources/bin/R CMD check --install=check:SCFA.install-out.txt --library=/Library/Frameworks/R.framework/Resources/library --no-vignettes --timings SCFA_1.14.0.tar.gz StartedAt: 2024-10-17 12:36:28 -0400 (Thu, 17 Oct 2024) EndedAt: 2024-10-17 12:46:34 -0400 (Thu, 17 Oct 2024) EllapsedTime: 606.1 seconds RetCode: 0 Status: OK CheckDir: SCFA.Rcheck Warnings: 0