Package: SCFA Version: 1.14.0 Command: /Library/Frameworks/R.framework/Resources/bin/R CMD check --install=check:SCFA.install-out.txt --library=/Library/Frameworks/R.framework/Resources/library --no-vignettes --timings SCFA_1.14.0.tar.gz StartedAt: 2024-06-09 22:52:15 -0400 (Sun, 09 Jun 2024) EndedAt: 2024-06-09 22:56:55 -0400 (Sun, 09 Jun 2024) EllapsedTime: 280.7 seconds RetCode: 0 Status: OK CheckDir: SCFA.Rcheck Warnings: 0