Package: SCFA Version: 1.14.0 Command: /Library/Frameworks/R.framework/Resources/bin/R CMD build --keep-empty-dirs --no-resave-data SCFA StartedAt: 2024-10-17 08:34:05 -0400 (Thu, 17 Oct 2024) EndedAt: 2024-10-17 08:37:45 -0400 (Thu, 17 Oct 2024) EllapsedTime: 220.7 seconds RetCode: 0 Status: OK PackageFile: SCFA_1.14.0.tar.gz PackageFileSize: 1.24 MiB