Package: SCBN Version: 1.22.0 Command: chmod a+r SCBN -R && F:\biocbuild\bbs-3.19-bioc\R\bin\R.exe CMD build --keep-empty-dirs --no-resave-data SCBN StartedAt: 2024-06-26 21:41:09 -0400 (Wed, 26 Jun 2024) EndedAt: 2024-06-26 21:42:16 -0400 (Wed, 26 Jun 2024) EllapsedTime: 66.7 seconds RetCode: 0 Status: OK PackageFile: SCBN_1.22.0.tar.gz PackageFileSize: 516.1 KiB