Package: SCBN Version: 1.22.0 Command: /Library/Frameworks/R.framework/Resources/bin/R CMD INSTALL SCBN StartedAt: 2024-10-16 15:34:41 -0400 (Wed, 16 Oct 2024) EndedAt: 2024-10-16 15:34:44 -0400 (Wed, 16 Oct 2024) EllapsedTime: 3.5 seconds RetCode: 0 Status: OK