Package: SCBN Version: 1.22.0 Maintainer: Yan Zhou MaintainerEmail: 2160090406 at email.szu.edu.cn git_url: https://git.bioconductor.org/packages/SCBN git_branch: RELEASE_3_19 git_last_commit: 403e57c git_last_commit_date: 2024-04-30 11:08:19 -0400 (Tue, 30 Apr 2024)