Package: SCArray Version: 1.12.0 Command: /Library/Frameworks/R.framework/Resources/bin/R CMD build --keep-empty-dirs --no-resave-data SCArray StartedAt: 2024-10-16 22:54:05 -0400 (Wed, 16 Oct 2024) EndedAt: 2024-10-16 22:57:14 -0400 (Wed, 16 Oct 2024) EllapsedTime: 189.1 seconds RetCode: 0 Status: OK PackageFile: SCArray_1.12.0.tar.gz PackageFileSize: 1.364 MiB