Package: SCArray Version: 1.12.0 Command: rm -rf SCArray.buildbin-libdir && mkdir SCArray.buildbin-libdir && /Users/biocbuild/BBS/utils/build-universal.sh SCArray_1.12.0.tar.gz /Library/Frameworks/R.framework/Resources/bin/R SCArray.buildbin-libdir StartedAt: 2024-10-17 17:06:08 -0400 (Thu, 17 Oct 2024) EndedAt: 2024-10-17 17:07:53 -0400 (Thu, 17 Oct 2024) EllapsedTime: 104.7 seconds RetCode: 0 Status: OK PackageFile: SCArray_1.12.0.tgz PackageFileSize: 2.391 MiB