Package: SCArray Version: 1.12.0 Command: /Library/Frameworks/R.framework/Resources/bin/R CMD build --keep-empty-dirs --no-resave-data SCArray StartedAt: 2024-06-10 04:02:46 -0400 (Mon, 10 Jun 2024) EndedAt: 2024-06-10 04:05:47 -0400 (Mon, 10 Jun 2024) EllapsedTime: 181.1 seconds RetCode: 0 Status: OK PackageFile: SCArray_1.12.0.tar.gz PackageFileSize: 1.314 MiB