Package: SCArray Version: 1.12.0 Command: rm -rf SCArray.buildbin-libdir && mkdir SCArray.buildbin-libdir && /Users/biocbuild/BBS/utils/build-universal.sh SCArray_1.12.0.tar.gz /Library/Frameworks/R.framework/Resources/bin/R SCArray.buildbin-libdir StartedAt: 2024-10-15 20:06:29 -0400 (Tue, 15 Oct 2024) EndedAt: 2024-10-15 20:07:28 -0400 (Tue, 15 Oct 2024) EllapsedTime: 59.3 seconds RetCode: 0 Status: OK PackageFile: SCArray_1.12.0.tgz PackageFileSize: 2.387 MiB