Package: SCArray.sat Version: 1.4.0 Command: E:\biocbuild\bbs-3.19-bioc\R\bin\R.exe CMD INSTALL SCArray.sat StartedAt: 2024-10-16 17:12:24 -0400 (Wed, 16 Oct 2024) EndedAt: 2024-10-16 17:13:18 -0400 (Wed, 16 Oct 2024) EllapsedTime: 54.2 seconds RetCode: 0 Status: OK