Package: SCArray.sat Version: 1.4.0 Command: chmod a+r SCArray.sat -R && E:\biocbuild\bbs-3.19-bioc\R\bin\R.exe CMD build --keep-empty-dirs --no-resave-data SCArray.sat StartedAt: 2024-10-16 21:43:00 -0400 (Wed, 16 Oct 2024) EndedAt: 2024-10-16 21:44:49 -0400 (Wed, 16 Oct 2024) EllapsedTime: 109.5 seconds RetCode: 0 Status: OK PackageFile: SCArray.sat_1.4.0.tar.gz PackageFileSize: 398.2 KiB