Package: SCArray.sat Version: 1.4.0 Command: /home/biocbuild/bbs-3.19-bioc/R/bin/R CMD INSTALL SCArray.sat StartedAt: 2024-10-16 16:38:14 -0400 (Wed, 16 Oct 2024) EndedAt: 2024-10-16 16:38:55 -0400 (Wed, 16 Oct 2024) EllapsedTime: 40.3 seconds RetCode: 0 Status: OK