Package: SCArray.sat Version: 1.4.0 Command: /home/biocbuild/R/R-beta-2024-04-15_r86425/bin/R CMD check --install=check:SCArray.sat.install-out.txt --library=/home/biocbuild/R/R-beta-2024-04-15_r86425/site-library --no-vignettes --timings SCArray.sat_1.4.0.tar.gz StartedAt: 2024-05-09 11:35:27 -0000 (Thu, 09 May 2024) EndedAt: 2024-05-09 11:41:44 -0000 (Thu, 09 May 2024) EllapsedTime: 376.6 seconds RetCode: 0 Status: OK CheckDir: SCArray.sat.Rcheck Warnings: 0