Package: SCArray.sat Version: 1.4.0 Command: /Library/Frameworks/R.framework/Resources/bin/R CMD INSTALL SCArray.sat StartedAt: 2024-06-09 17:22:59 -0400 (Sun, 09 Jun 2024) EndedAt: 2024-06-09 17:23:55 -0400 (Sun, 09 Jun 2024) EllapsedTime: 56.0 seconds RetCode: 0 Status: OK