Package: SCArray.sat Version: 1.4.0 Command: /Library/Frameworks/R.framework/Resources/bin/R CMD check --install=check:SCArray.sat.install-out.txt --library=/Library/Frameworks/R.framework/Resources/library --no-vignettes --timings SCArray.sat_1.4.0.tar.gz StartedAt: 2024-06-11 04:16:21 -0400 (Tue, 11 Jun 2024) EndedAt: 2024-06-11 04:24:54 -0400 (Tue, 11 Jun 2024) EllapsedTime: 512.5 seconds RetCode: 0 Status: OK CheckDir: SCArray.sat.Rcheck Warnings: 0