Package: SCArray.sat Version: 1.4.0 Command: rm -rf SCArray.sat.buildbin-libdir && mkdir SCArray.sat.buildbin-libdir && /Users/biocbuild/BBS/utils/build-universal.sh SCArray.sat_1.4.0.tar.gz /Library/Frameworks/R.framework/Resources/bin/R SCArray.sat.buildbin-libdir StartedAt: 2024-10-15 20:06:30 -0400 (Tue, 15 Oct 2024) EndedAt: 2024-10-15 20:07:32 -0400 (Tue, 15 Oct 2024) EllapsedTime: 61.6 seconds RetCode: 0 Status: OK PackageFile: SCArray.sat_1.4.0.tgz PackageFileSize: 803.9 KiB