Package: SCANVIS Version: 1.18.0 Command: chmod a+r SCANVIS -R && E:\biocbuild\bbs-3.19-bioc\R\bin\R.exe CMD build --keep-empty-dirs --no-resave-data SCANVIS StartedAt: 2024-10-16 21:42:56 -0400 (Wed, 16 Oct 2024) EndedAt: 2024-10-16 21:44:02 -0400 (Wed, 16 Oct 2024) EllapsedTime: 66.4 seconds RetCode: 0 Status: OK PackageFile: SCANVIS_1.18.0.tar.gz PackageFileSize: 471.1 KiB