Package: SCANVIS Version: 1.18.0 Command: rm -rf SCANVIS.buildbin-libdir && mkdir SCANVIS.buildbin-libdir && E:\biocbuild\bbs-3.19-bioc\R\bin\R.exe CMD INSTALL --build --library=SCANVIS.buildbin-libdir SCANVIS_1.18.0.tar.gz StartedAt: 2024-10-17 08:34:08 -0400 (Thu, 17 Oct 2024) EndedAt: 2024-10-17 08:34:45 -0400 (Thu, 17 Oct 2024) EllapsedTime: 36.7 seconds RetCode: 0 Status: OK PackageFile: SCANVIS_1.18.0.zip PackageFileSize: 431.9 KiB