Package: SCANVIS Version: 1.18.0 Command: /Library/Frameworks/R.framework/Resources/bin/R CMD build --keep-empty-dirs --no-resave-data SCANVIS StartedAt: 2024-10-16 22:53:54 -0400 (Wed, 16 Oct 2024) EndedAt: 2024-10-16 22:55:52 -0400 (Wed, 16 Oct 2024) EllapsedTime: 117.7 seconds RetCode: 0 Status: OK PackageFile: SCANVIS_1.18.0.tar.gz PackageFileSize: 470.1 KiB