Package: SCANVIS Version: 1.18.0 Command: rm -rf SCANVIS.buildbin-libdir && mkdir SCANVIS.buildbin-libdir && /Users/biocbuild/BBS/utils/build-universal.sh SCANVIS_1.18.0.tar.gz /Library/Frameworks/R.framework/Resources/bin/R SCANVIS.buildbin-libdir StartedAt: 2024-10-17 17:06:06 -0400 (Thu, 17 Oct 2024) EndedAt: 2024-10-17 17:07:19 -0400 (Thu, 17 Oct 2024) EllapsedTime: 73.6 seconds RetCode: 0 Status: OK PackageFile: SCANVIS_1.18.0.tgz PackageFileSize: 430.3 KiB