Package: SCANVIS Version: 1.18.0 Command: /home/biocbuild/R/R-beta-2024-04-15_r86425/bin/R CMD check --install=check:SCANVIS.install-out.txt --library=/home/biocbuild/R/R-beta-2024-04-15_r86425/site-library --no-vignettes --timings SCANVIS_1.18.0.tar.gz StartedAt: 2024-05-09 11:34:10 -0000 (Thu, 09 May 2024) EndedAt: 2024-05-09 11:38:33 -0000 (Thu, 09 May 2024) EllapsedTime: 263.5 seconds RetCode: 0 Status: OK CheckDir: SCANVIS.Rcheck Warnings: 0