Package: SCANVIS Version: 1.18.0 Command: /home/biocbuild/R/R-beta-2024-04-15_r86425/bin/R CMD build --keep-empty-dirs --no-resave-data SCANVIS StartedAt: 2024-05-09 03:18:05 -0000 (Thu, 09 May 2024) EndedAt: 2024-05-09 03:19:08 -0000 (Thu, 09 May 2024) EllapsedTime: 63.1 seconds RetCode: 0 Status: OK PackageFile: SCANVIS_1.18.0.tar.gz PackageFileSize: 464.8 KiB