Package: SCANVIS Version: 1.18.0 Command: rm -rf SCANVIS.buildbin-libdir && mkdir SCANVIS.buildbin-libdir && /Users/biocbuild/BBS/utils/build-universal.sh SCANVIS_1.18.0.tar.gz /Library/Frameworks/R.framework/Resources/bin/R SCANVIS.buildbin-libdir StartedAt: 2024-06-11 13:02:58 -0400 (Tue, 11 Jun 2024) EndedAt: 2024-06-11 13:04:02 -0400 (Tue, 11 Jun 2024) EllapsedTime: 64.1 seconds RetCode: 0 Status: OK PackageFile: SCANVIS_1.18.0.tgz PackageFileSize: 429.5 KiB